Package: EpiDISH Version: 2.23.1 Command: /home/biocbuild/bbs-3.21-bioc/R/bin/R CMD build --keep-empty-dirs --no-resave-data EpiDISH StartedAt: 2025-02-20 17:22:11 -0500 (Thu, 20 Feb 2025) EndedAt: 2025-02-20 17:22:26 -0500 (Thu, 20 Feb 2025) EllapsedTime: 15.0 seconds RetCode: 0 Status: OK PackageFile: EpiDISH_2.23.1.tar.gz PackageFileSize: 3.116 MiB