Package: EpiCompare Version: 1.13.2 Command: /home/biocbuild/bbs-3.22-bioc/R/bin/R CMD INSTALL EpiCompare StartedAt: 2025-10-08 16:19:34 -0400 (Wed, 08 Oct 2025) EndedAt: 2025-10-08 16:20:40 -0400 (Wed, 08 Oct 2025) EllapsedTime: 65.8 seconds RetCode: 0 Status: OK