Package: EpiCompare Version: 1.13.2 Command: /home/biocbuild/bbs-3.22-bioc/R/bin/R CMD build --keep-empty-dirs --no-resave-data --md5 EpiCompare StartedAt: 2025-10-08 17:54:26 -0400 (Wed, 08 Oct 2025) EndedAt: 2025-10-08 17:55:41 -0400 (Wed, 08 Oct 2025) EllapsedTime: 75.1 seconds RetCode: 0 Status: OK PackageFile: EpiCompare_1.13.2.tar.gz PackageFileSize: 1.881 MiB