Package: EpiCompare Version: 1.11.0 Command: /Library/Frameworks/R.framework/Resources/bin/R CMD check --install=check:EpiCompare.install-out.txt --library=/Library/Frameworks/R.framework/Resources/library --no-vignettes --timings EpiCompare_1.11.0.tar.gz StartedAt: 2025-02-03 20:21:45 -0500 (Mon, 03 Feb 2025) EndedAt: 2025-02-03 20:30:50 -0500 (Mon, 03 Feb 2025) EllapsedTime: 545.7 seconds RetCode: 1 Status: ERROR CheckDir: EpiCompare.Rcheck Warnings: NA