Package: EpiCompare Version: 1.13.0 Command: rm -rf EpiCompare.buildbin-libdir && mkdir EpiCompare.buildbin-libdir && /Users/biocbuild/BBS/utils/build-universal.sh EpiCompare_1.13.0.tar.gz /Library/Frameworks/R.framework/Resources/bin/R EpiCompare.buildbin-libdir StartedAt: 2025-05-01 00:40:19 -0400 (Thu, 01 May 2025) EndedAt: 2025-05-01 00:41:27 -0400 (Thu, 01 May 2025) EllapsedTime: 68.1 seconds RetCode: 0 Status: OK PackageFile: EpiCompare_1.13.0.tgz PackageFileSize: 1.655 MiB