Package: EpiCompare Version: 1.13.0 Command: /Library/Frameworks/R.framework/Resources/bin/R CMD build --keep-empty-dirs --no-resave-data EpiCompare StartedAt: 2025-05-09 16:20:29 -0400 (Fri, 09 May 2025) EndedAt: 2025-05-09 16:21:02 -0400 (Fri, 09 May 2025) EllapsedTime: 32.3 seconds RetCode: 0 Status: OK PackageFile: EpiCompare_1.13.0.tar.gz PackageFileSize: 1.871 MiB