Package: EnrichmentBrowser Version: 2.39.0 Command: rm -rf EnrichmentBrowser.buildbin-libdir && mkdir EnrichmentBrowser.buildbin-libdir && F:\biocbuild\bbs-3.22-bioc\R\bin\R.exe CMD INSTALL --build --library=EnrichmentBrowser.buildbin-libdir EnrichmentBrowser_2.39.0.tar.gz StartedAt: 2025-08-15 10:13:22 -0400 (Fri, 15 Aug 2025) EndedAt: 2025-08-15 10:15:55 -0400 (Fri, 15 Aug 2025) EllapsedTime: 152.8 seconds RetCode: 0 Status: OK PackageFile: EnrichmentBrowser_2.39.0.zip PackageFileSize: 1.47 MiB