Package: EnrichmentBrowser Version: 2.39.0 Command: /Library/Frameworks/R.framework/Resources/bin/R CMD INSTALL EnrichmentBrowser StartedAt: 2025-05-22 15:45:41 -0400 (Thu, 22 May 2025) EndedAt: 2025-05-22 15:46:24 -0400 (Thu, 22 May 2025) EllapsedTime: 43.6 seconds RetCode: 0 Status: OK