Package: EnrichmentBrowser Version: 2.39.0 Command: /Library/Frameworks/R.framework/Resources/bin/R CMD check --install=check:EnrichmentBrowser.install-out.txt --library=/Library/Frameworks/R.framework/Resources/library --no-vignettes --timings EnrichmentBrowser_2.39.0.tar.gz StartedAt: 2025-05-22 20:20:19 -0400 (Thu, 22 May 2025) EndedAt: 2025-05-22 20:27:32 -0400 (Thu, 22 May 2025) EllapsedTime: 432.7 seconds RetCode: 0 Status: OK CheckDir: EnrichmentBrowser.Rcheck Warnings: 0