Package: EnrichmentBrowser Version: 2.39.0 Command: /Library/Frameworks/R.framework/Resources/bin/R CMD build --keep-empty-dirs --no-resave-data EnrichmentBrowser StartedAt: 2025-05-22 16:40:43 -0400 (Thu, 22 May 2025) EndedAt: 2025-05-22 16:43:00 -0400 (Thu, 22 May 2025) EllapsedTime: 137.0 seconds RetCode: 0 Status: OK PackageFile: EnrichmentBrowser_2.39.0.tar.gz PackageFileSize: 1.661 MiB