Package: EnrichmentBrowser Version: 2.37.0 Command: /home/biocbuild/R/R/bin/R CMD build --keep-empty-dirs --no-resave-data EnrichmentBrowser StartedAt: 2025-01-28 22:41:01 -0000 (Tue, 28 Jan 2025) EndedAt: 2025-01-28 22:43:50 -0000 (Tue, 28 Jan 2025) EllapsedTime: 169.1 seconds RetCode: 0 Status: OK PackageFile: EnrichmentBrowser_2.37.0.tar.gz PackageFileSize: 1.357 MiB