Package: EnrichmentBrowser Version: 2.39.0 Command: rm -rf EnrichmentBrowser.buildbin-libdir && mkdir EnrichmentBrowser.buildbin-libdir && /Users/biocbuild/BBS/utils/build-universal.sh EnrichmentBrowser_2.39.0.tar.gz /Library/Frameworks/R.framework/Resources/bin/R EnrichmentBrowser.buildbin-libdir StartedAt: 2025-05-27 22:13:06 -0400 (Tue, 27 May 2025) EndedAt: 2025-05-27 22:13:20 -0400 (Tue, 27 May 2025) EllapsedTime: 14.3 seconds RetCode: 0 Status: OK PackageFile: EnrichmentBrowser_2.39.0.tgz PackageFileSize: 1.866 MiB