Package: EnrichedHeatmap Version: 1.41.0 Command: /home/biocbuild/bbs-3.23-bioc/R/bin/R CMD INSTALL EnrichedHeatmap StartedAt: 2025-11-21 15:15:44 -0500 (Fri, 21 Nov 2025) EndedAt: 2025-11-21 15:16:00 -0500 (Fri, 21 Nov 2025) EllapsedTime: 16.4 seconds RetCode: 0 Status: OK