Package: EnrichedHeatmap Version: 1.41.0 Command: /home/biocbuild/bbs-3.23-bioc/R/bin/R CMD build --keep-empty-dirs --no-resave-data EnrichedHeatmap StartedAt: 2025-11-23 17:29:34 -0500 (Sun, 23 Nov 2025) EndedAt: 2025-11-23 17:34:48 -0500 (Sun, 23 Nov 2025) EllapsedTime: 314.3 seconds RetCode: 0 Status: OK PackageFile: EnrichedHeatmap_1.41.0.tar.gz PackageFileSize: 11.62 MiB