Package: EnrichedHeatmap Version: 1.41.0 Maintainer: Zuguang Gu MaintainerEmail: z.gu at dkfz.de git_url: https://git.bioconductor.org/packages/EnrichedHeatmap git_branch: devel git_last_commit: f3ffa10 git_last_commit_date: 2025-10-29 10:27:54 -0400 (Wed, 29 Oct 2025)