Package: EnrichDO Version: 1.3.0 Command: rm -rf EnrichDO.buildbin-libdir && mkdir EnrichDO.buildbin-libdir && F:\biocbuild\bbs-3.22-bioc\R\bin\R.exe CMD INSTALL --build --library=EnrichDO.buildbin-libdir EnrichDO_1.3.0.tar.gz StartedAt: 2025-08-15 10:13:13 -0400 (Fri, 15 Aug 2025) EndedAt: 2025-08-15 10:13:54 -0400 (Fri, 15 Aug 2025) EllapsedTime: 41.6 seconds RetCode: 0 Status: OK PackageFile: EnrichDO_1.3.0.zip PackageFileSize: 3.049 MiB