Package: EnrichDO Version: 1.1.1 Command: E:\biocbuild\bbs-3.21-bioc\R\bin\R.exe CMD INSTALL EnrichDO StartedAt: 2025-02-05 16:35:38 -0500 (Wed, 05 Feb 2025) EndedAt: 2025-02-05 16:36:12 -0500 (Wed, 05 Feb 2025) EllapsedTime: 34.7 seconds RetCode: 0 Status: OK