Package: EnrichDO Version: 1.1.1 Command: E:\biocbuild\bbs-3.21-bioc\R\bin\R.exe CMD check --no-multiarch --install=check:EnrichDO.install-out.txt --library=E:\biocbuild\bbs-3.21-bioc\R\library --no-vignettes --timings EnrichDO_1.1.1.tar.gz StartedAt: 2025-02-03 00:41:53 -0500 (Mon, 03 Feb 2025) EndedAt: 2025-02-03 00:49:09 -0500 (Mon, 03 Feb 2025) EllapsedTime: 435.5 seconds RetCode: 0 Status: OK CheckDir: EnrichDO.Rcheck Warnings: 0