Package: EnrichDO Version: 1.1.1 Command: chmod a+r EnrichDO -R && E:\biocbuild\bbs-3.21-bioc\R\bin\R.exe CMD build --keep-empty-dirs --no-resave-data EnrichDO StartedAt: 2025-02-05 18:36:14 -0500 (Wed, 05 Feb 2025) EndedAt: 2025-02-05 18:37:55 -0500 (Wed, 05 Feb 2025) EllapsedTime: 100.6 seconds RetCode: 0 Status: OK PackageFile: EnrichDO_1.1.1.tar.gz PackageFileSize: 1.985 MiB