Package: EnrichDO Version: 1.1.1 Command: rm -rf EnrichDO.buildbin-libdir && mkdir EnrichDO.buildbin-libdir && E:\biocbuild\bbs-3.21-bioc\R\bin\R.exe CMD INSTALL --build --library=EnrichDO.buildbin-libdir EnrichDO_1.1.1.tar.gz StartedAt: 2025-02-06 07:59:04 -0500 (Thu, 06 Feb 2025) EndedAt: 2025-02-06 07:59:50 -0500 (Thu, 06 Feb 2025) EllapsedTime: 46.5 seconds RetCode: 0 Status: OK PackageFile: EnrichDO_1.1.1.zip PackageFileSize: 3.048 MiB