Package: EnrichDO Version: 1.1.1 Command: /home/biocbuild/bbs-3.21-bioc/R/bin/R CMD build --keep-empty-dirs --no-resave-data EnrichDO StartedAt: 2025-02-03 17:15:54 -0500 (Mon, 03 Feb 2025) EndedAt: 2025-02-03 17:17:23 -0500 (Mon, 03 Feb 2025) EllapsedTime: 89.1 seconds RetCode: 0 Status: OK PackageFile: EnrichDO_1.1.1.tar.gz PackageFileSize: 2.508 MiB