Package: EnrichDO Version: 1.1.1 Command: /Library/Frameworks/R.framework/Resources/bin/R CMD INSTALL EnrichDO StartedAt: 2025-02-02 15:32:22 -0500 (Sun, 02 Feb 2025) EndedAt: 2025-02-02 15:32:59 -0500 (Sun, 02 Feb 2025) EllapsedTime: 37.3 seconds RetCode: 0 Status: OK