Package: EnrichDO Version: 1.1.1 Command: /home/biocbuild/R/R/bin/R CMD build --keep-empty-dirs --no-resave-data EnrichDO StartedAt: 2025-01-28 22:40:36 -0000 (Tue, 28 Jan 2025) EndedAt: 2025-01-28 22:42:49 -0000 (Tue, 28 Jan 2025) EllapsedTime: 133.0 seconds RetCode: 0 Status: OK PackageFile: EnrichDO_1.1.1.tar.gz PackageFileSize: 2.035 MiB