Package: EnhancedVolcano Version: 1.27.0 Command: rm -rf EnhancedVolcano.buildbin-libdir && mkdir EnhancedVolcano.buildbin-libdir && F:\biocbuild\bbs-3.22-bioc\R\bin\R.exe CMD INSTALL --build --library=EnhancedVolcano.buildbin-libdir EnhancedVolcano_1.27.0.tar.gz StartedAt: 2025-08-15 10:12:53 -0400 (Fri, 15 Aug 2025) EndedAt: 2025-08-15 10:13:19 -0400 (Fri, 15 Aug 2025) EllapsedTime: 26.0 seconds RetCode: 0 Status: OK PackageFile: EnhancedVolcano_1.27.0.zip PackageFileSize: 2.13 MiB