Package: EnMCB Version: 1.19.0 Command: E:\biocbuild\bbs-3.21-bioc\R\bin\R.exe CMD INSTALL EnMCB StartedAt: 2025-02-16 16:02:47 -0500 (Sun, 16 Feb 2025) EndedAt: 2025-02-16 16:03:13 -0500 (Sun, 16 Feb 2025) EllapsedTime: 25.7 seconds RetCode: 0 Status: OK