Package: EWCE Version: 1.17.0 Command: /home/biocbuild/bbs-3.22-bioc/R/bin/R CMD INSTALL EWCE StartedAt: 2025-10-03 15:33:54 -0400 (Fri, 03 Oct 2025) EndedAt: 2025-10-03 15:34:31 -0400 (Fri, 03 Oct 2025) EllapsedTime: 36.6 seconds RetCode: 0 Status: OK