Package: EWCE Version: 1.17.0 Command: /home/biocbuild/bbs-3.22-bioc/R/bin/R CMD build --keep-empty-dirs --no-resave-data --md5 EWCE StartedAt: 2025-10-03 17:33:55 -0400 (Fri, 03 Oct 2025) EndedAt: 2025-10-03 17:35:07 -0400 (Fri, 03 Oct 2025) EllapsedTime: 72.1 seconds RetCode: 1 Status: ERROR PackageFile: None PackageFileSize: NA