Package: EWCE Version: 1.17.0 Command: rm -rf EWCE.buildbin-libdir && mkdir EWCE.buildbin-libdir && /Users/biocbuild/BBS/utils/build-universal.sh EWCE_1.17.0.tar.gz /Library/Frameworks/R.framework/Resources/bin/R EWCE.buildbin-libdir StartedAt: 2025-07-27 22:25:13 -0400 (Sun, 27 Jul 2025) EndedAt: 2025-07-27 22:25:30 -0400 (Sun, 27 Jul 2025) EllapsedTime: 16.3 seconds RetCode: 0 Status: OK PackageFile: EWCE_1.17.0.tgz PackageFileSize: 2.875 MiB