Package: EWCE Version: 1.17.0 Maintainer: Alan Murphy MaintainerEmail: alanmurph94 at hotmail.com git_url: https://git.bioconductor.org/packages/EWCE git_branch: devel git_last_commit: 2a4e0e6 git_last_commit_date: 2025-04-15 12:26:28 -0400 (Tue, 15 Apr 2025)