Package: ERSSA Version: 1.27.0 Command: chmod a+r ERSSA -R && F:\biocbuild\bbs-3.22-bioc\R\bin\R.exe CMD build --keep-empty-dirs --no-resave-data ERSSA StartedAt: 2025-08-14 20:02:53 -0400 (Thu, 14 Aug 2025) EndedAt: 2025-08-14 20:04:01 -0400 (Thu, 14 Aug 2025) EllapsedTime: 68.0 seconds RetCode: 0 Status: OK PackageFile: ERSSA_1.27.0.tar.gz PackageFileSize: 2.679 MiB