Package: ERSSA Version: 1.27.0 Maintainer: Zixuan Shao MaintainerEmail: Zixuanshao.zach at gmail.com git_url: https://git.bioconductor.org/packages/ERSSA git_branch: devel git_last_commit: 456b786 git_last_commit_date: 2025-04-15 11:37:14 -0400 (Tue, 15 Apr 2025)