Package: ENmix Version: 1.45.3 Command: F:\biocbuild\bbs-3.22-bioc\R\bin\R.exe CMD INSTALL ENmix StartedAt: 2025-08-14 16:40:58 -0400 (Thu, 14 Aug 2025) EndedAt: 2025-08-14 16:42:10 -0400 (Thu, 14 Aug 2025) EllapsedTime: 72.4 seconds RetCode: 0 Status: OK