Package: ENmix Version: 1.43.2 Command: /home/biocbuild/R/R/bin/R CMD build --keep-empty-dirs --no-resave-data ENmix StartedAt: 2025-01-28 22:40:17 -0000 (Tue, 28 Jan 2025) EndedAt: 2025-01-28 22:41:37 -0000 (Tue, 28 Jan 2025) EllapsedTime: 80.0 seconds RetCode: 0 Status: OK PackageFile: ENmix_1.43.2.tar.gz PackageFileSize: 20.08 MiB