Package: ENmix Version: 1.43.2 Command: /Library/Frameworks/R.framework/Resources/bin/R CMD INSTALL ENmix StartedAt: 2025-01-31 15:27:07 -0500 (Fri, 31 Jan 2025) EndedAt: 2025-01-31 15:27:28 -0500 (Fri, 31 Jan 2025) EllapsedTime: 20.7 seconds RetCode: 0 Status: OK