Package: ENmix Version: 1.43.2 Command: /Library/Frameworks/R.framework/Resources/bin/R CMD check --install=check:ENmix.install-out.txt --library=/Library/Frameworks/R.framework/Resources/library --no-vignettes --timings ENmix_1.43.2.tar.gz StartedAt: 2025-02-05 19:10:52 -0500 (Wed, 05 Feb 2025) EndedAt: 2025-02-05 19:12:59 -0500 (Wed, 05 Feb 2025) EllapsedTime: 127.5 seconds RetCode: 0 Status: OK CheckDir: ENmix.Rcheck Warnings: 0