Package: ENmix Version: 1.43.2 Command: /Library/Frameworks/R.framework/Resources/bin/R CMD build --keep-empty-dirs --no-resave-data ENmix StartedAt: 2025-01-31 16:15:42 -0500 (Fri, 31 Jan 2025) EndedAt: 2025-01-31 16:16:08 -0500 (Fri, 31 Jan 2025) EllapsedTime: 26.3 seconds RetCode: 0 Status: OK PackageFile: ENmix_1.43.2.tar.gz PackageFileSize: 20.02 MiB