Package: ENmix Version: 1.43.2 Command: rm -rf ENmix.buildbin-libdir && mkdir ENmix.buildbin-libdir && /Users/biocbuild/BBS/utils/build-universal.sh ENmix_1.43.2.tar.gz /Library/Frameworks/R.framework/Resources/bin/R ENmix.buildbin-libdir StartedAt: 2025-01-31 22:15:15 -0500 (Fri, 31 Jan 2025) EndedAt: 2025-01-31 22:15:39 -0500 (Fri, 31 Jan 2025) EllapsedTime: 23.5 seconds RetCode: 0 Status: OK PackageFile: ENmix_1.43.2.tgz PackageFileSize: 19.7 MiB