Package: EMDomics Version: 2.37.0 Command: chmod a+r EMDomics -R && E:\biocbuild\bbs-3.21-bioc\R\bin\R.exe CMD build --keep-empty-dirs --no-resave-data EMDomics StartedAt: 2025-02-03 18:43:14 -0500 (Mon, 03 Feb 2025) EndedAt: 2025-02-03 18:43:34 -0500 (Mon, 03 Feb 2025) EllapsedTime: 19.6 seconds RetCode: 0 Status: OK PackageFile: EMDomics_2.37.0.tar.gz PackageFileSize: 87.39 KiB