Package: EMDomics Version: 2.39.0 Command: /home/biocbuild/bbs-3.22-bioc/R/bin/R CMD INSTALL EMDomics StartedAt: 2025-10-06 15:11:20 -0400 (Mon, 06 Oct 2025) EndedAt: 2025-10-06 15:11:26 -0400 (Mon, 06 Oct 2025) EllapsedTime: 6.1 seconds RetCode: 0 Status: OK