Package: EMDomics Version: 2.37.0 Command: /home/biocbuild/bbs-3.21-bioc/R/bin/R CMD INSTALL EMDomics StartedAt: 2025-02-03 15:20:35 -0500 (Mon, 03 Feb 2025) EndedAt: 2025-02-03 15:20:39 -0500 (Mon, 03 Feb 2025) EllapsedTime: 4.0 seconds RetCode: 0 Status: OK