Package: EMDomics Version: 2.39.0 Command: /Library/Frameworks/R.framework/Resources/bin/R CMD build --keep-empty-dirs --no-resave-data EMDomics StartedAt: 2025-04-27 16:39:49 -0400 (Sun, 27 Apr 2025) EndedAt: 2025-04-27 16:40:07 -0400 (Sun, 27 Apr 2025) EllapsedTime: 18.3 seconds RetCode: 0 Status: OK PackageFile: EMDomics_2.39.0.tar.gz PackageFileSize: 329.4 KiB