Package: ELViS Version: 1.3.0 Command: /home/biocbuild/bbs-3.23-bioc/R/bin/R CMD INSTALL ELViS StartedAt: 2025-11-17 15:41:57 -0500 (Mon, 17 Nov 2025) EndedAt: 2025-11-17 15:42:39 -0500 (Mon, 17 Nov 2025) EllapsedTime: 42.8 seconds RetCode: 0 Status: OK