Package: ELViS Version: 1.3.0 Command: /Library/Frameworks/R.framework/Resources/bin/R CMD INSTALL ELViS StartedAt: 2025-11-21 15:39:53 -0500 (Fri, 21 Nov 2025) EndedAt: 2025-11-21 15:40:50 -0500 (Fri, 21 Nov 2025) EllapsedTime: 57.3 seconds RetCode: 0 Status: OK