Package: ELViS Version: 1.3.0 Command: /Library/Frameworks/R.framework/Resources/bin/R CMD build --keep-empty-dirs --no-resave-data ELViS StartedAt: 2025-11-21 16:55:02 -0500 (Fri, 21 Nov 2025) EndedAt: 2025-11-21 16:58:21 -0500 (Fri, 21 Nov 2025) EllapsedTime: 198.8 seconds RetCode: 0 Status: OK PackageFile: ELViS_1.3.0.tar.gz PackageFileSize: 2.392 MiB