Package: ELMER Version: 2.33.1 Command: chmod a+r ELMER -R && F:\biocbuild\bbs-3.22-bioc\R\bin\R.exe CMD build --keep-empty-dirs --no-resave-data ELMER StartedAt: 2025-08-14 19:54:06 -0400 (Thu, 14 Aug 2025) EndedAt: 2025-08-14 20:04:13 -0400 (Thu, 14 Aug 2025) EllapsedTime: 606.8 seconds RetCode: 0 Status: OK PackageFile: ELMER_2.33.1.tar.gz PackageFileSize: 42.8 MiB