Package: EGSEA Version: 1.37.0 Command: /home/biocbuild/bbs-3.22-bioc/R/bin/R CMD INSTALL EGSEA StartedAt: 2025-10-15 16:02:46 -0400 (Wed, 15 Oct 2025) EndedAt: 2025-10-15 16:04:04 -0400 (Wed, 15 Oct 2025) EllapsedTime: 77.4 seconds RetCode: 0 Status: OK