Package: EGAD Version: 1.37.0 Command: /home/biocbuild/bbs-3.22-bioc/R/bin/R CMD INSTALL EGAD StartedAt: 2025-10-13 15:35:56 -0400 (Mon, 13 Oct 2025) EndedAt: 2025-10-13 15:36:30 -0400 (Mon, 13 Oct 2025) EllapsedTime: 33.5 seconds RetCode: 0 Status: OK