Package: EGAD Version: 1.37.0 Command: /Library/Frameworks/R.framework/Resources/bin/R CMD INSTALL EGAD StartedAt: 2025-05-22 15:30:07 -0400 (Thu, 22 May 2025) EndedAt: 2025-05-22 15:30:51 -0400 (Thu, 22 May 2025) EllapsedTime: 43.1 seconds RetCode: 0 Status: OK