Package: EGAD Version: 1.37.0 Command: /Library/Frameworks/R.framework/Resources/bin/R CMD INSTALL EGAD StartedAt: 2025-05-27 15:18:24 -0400 (Tue, 27 May 2025) EndedAt: 2025-05-27 15:18:39 -0400 (Tue, 27 May 2025) EllapsedTime: 14.5 seconds RetCode: 0 Status: OK