Package: EDIRquery Version: 1.9.0 Command: /home/biocbuild/R/R/bin/R CMD INSTALL EDIRquery StartedAt: 2025-10-23 20:45:45 -0000 (Thu, 23 Oct 2025) EndedAt: 2025-10-23 20:46:16 -0000 (Thu, 23 Oct 2025) EllapsedTime: 31.5 seconds RetCode: 0 Status: OK